BEGIN:VCALENDAR
VERSION:2.0
PRODID:-//eventon.com NONSGML v1.0//EN
CALSCALE:GREGORIAN
METHOD:PUBLISH
BEGIN:VEVENT
UID:69e8a55b24853
DTSTAMP:20260422T103923Z
DTSTART:20260316T070000Z
DTEND:20260316T225000Z
LOCATION:
SUMMARY:Ukulelefee Circle
DESCRIPTION:Ukulelefee Circle\nhttps://www.herztoenchen.com/ukulelefee/even
 ts/ukulelefee-circle-event/
URL:https://www.herztoenchen.com/ukulelefee/events/ukulelefee-circle-event/
END:VEVENT
END:VCALENDAR